BEGIN:VCALENDAR
VERSION:2.0
PRODID:-//Bildungsregion Bamberg - ECPv6.15.20//NONSGML v1.0//EN
CALSCALE:GREGORIAN
METHOD:PUBLISH
X-WR-CALNAME:Bildungsregion Bamberg
X-ORIGINAL-URL:https://bildungsregion-bamberg.de
X-WR-CALDESC:Veranstaltungen für Bildungsregion Bamberg
REFRESH-INTERVAL;VALUE=DURATION:PT1H
X-Robots-Tag:noindex
X-PUBLISHED-TTL:PT1H
BEGIN:VTIMEZONE
TZID:Europe/Berlin
BEGIN:DAYLIGHT
TZOFFSETFROM:+0100
TZOFFSETTO:+0200
TZNAME:CEST
DTSTART:20250330T010000
END:DAYLIGHT
BEGIN:STANDARD
TZOFFSETFROM:+0200
TZOFFSETTO:+0100
TZNAME:CET
DTSTART:20251026T010000
END:STANDARD
BEGIN:DAYLIGHT
TZOFFSETFROM:+0100
TZOFFSETTO:+0200
TZNAME:CEST
DTSTART:20260329T010000
END:DAYLIGHT
BEGIN:STANDARD
TZOFFSETFROM:+0200
TZOFFSETTO:+0100
TZNAME:CET
DTSTART:20261025T010000
END:STANDARD
BEGIN:DAYLIGHT
TZOFFSETFROM:+0100
TZOFFSETTO:+0200
TZNAME:CEST
DTSTART:20270328T010000
END:DAYLIGHT
BEGIN:STANDARD
TZOFFSETFROM:+0200
TZOFFSETTO:+0100
TZNAME:CET
DTSTART:20271031T010000
END:STANDARD
END:VTIMEZONE
BEGIN:VEVENT
DTSTART;TZID=Europe/Berlin:20260509T100000
DTEND;TZID=Europe/Berlin:20260509T113000
DTSTAMP:20260424T150508
CREATED:20260423T113055Z
LAST-MODIFIED:20260423T113055Z
UID:10000604-1778320800-1778326200@bildungsregion-bamberg.de
SUMMARY:Besichtigung des Windparks Trabelsdorfer Hof
DESCRIPTION:Wie funktioniert Windenergie? Bei dieser Besichtigung wird das Genehmigungsverfahren und der Bau eines Windrads erläutert. Außerdem wird besprochen\, welche Chancen die Energiewende\nfür Kommunen im ländlichen Bereich bietet. \nReferenten:\nWindparkbetreiber Roland Lösel & Altbürgermeister Helmut Krämer \nAnmeldung: www.vhs-bamberg-land.de
URL:https://bildungsregion-bamberg.de/veranstaltungsanzeige/besichtigung-des-windparks-trabelsdorfer-hof/2026-05-09/
CATEGORIES:Bildung für nachhaltige Entwicklung,Erwachsenenbildung,Klimaschutz
ATTACH;FMTTYPE=image/png:https://bildungsregion-bamberg.de/wp-content/uploads/2022/09/vhs-wissen.png
END:VEVENT
BEGIN:VEVENT
DTSTART;TZID=Europe/Berlin:20260620T100000
DTEND;TZID=Europe/Berlin:20260620T113000
DTSTAMP:20260424T150508
CREATED:20260423T113055Z
LAST-MODIFIED:20260423T113055Z
UID:10000605-1781949600-1781955000@bildungsregion-bamberg.de
SUMMARY:Besichtigung des Windparks Trabelsdorfer Hof
DESCRIPTION:Wie funktioniert Windenergie? Bei dieser Besichtigung wird das Genehmigungsverfahren und der Bau eines Windrads erläutert. Außerdem wird besprochen\, welche Chancen die Energiewende\nfür Kommunen im ländlichen Bereich bietet. \nReferenten:\nWindparkbetreiber Roland Lösel & Altbürgermeister Helmut Krämer \nAnmeldung: www.vhs-bamberg-land.de
URL:https://bildungsregion-bamberg.de/veranstaltungsanzeige/besichtigung-des-windparks-trabelsdorfer-hof/2026-06-20/
CATEGORIES:Bildung für nachhaltige Entwicklung,Erwachsenenbildung,Klimaschutz
ATTACH;FMTTYPE=image/png:https://bildungsregion-bamberg.de/wp-content/uploads/2022/09/vhs-wissen.png
END:VEVENT
END:VCALENDAR